BEGIN:VCALENDAR
VERSION:2.0
METHOD:PUBLISH
X-WR-CALNAME:VFEK |  március 12 2012- március 12 2012
PRODID:-//strange bird labs//Drupal iCal API//EN
BEGIN:VEVENT
DTSTAMP;VALUE=DATE-TIME:20260420T124636Z
DTSTART;VALUE=DATE-TIME:20120307T150000Z
DTEND;VALUE=DATE-TIME:20120331T170000Z
UID:http://portal.vfmk.hu/node/1583
URL;VALUE=URI:http://portal.vfmk.hu/node/1583
SUMMARY:Fotókiállítás
DESCRIPTION:<p style=\\"text-align\: center\;\\">&nbsp\;<span style=\\"font-size\: medium\;\\"><strong>A Verseghy Ferenc K&ouml\;nyvt&aacute\;r &eacute\;s Művelőd&eacute\;si Int&eacute\;zet</strong></span><br />
 &eacute\;s<br />
 <span style=\\"font-size\: medium\;\\"><strong>Csid&eacute\;r B&aacute\;lint</strong></span><br />
 fot&oacute\;műv&eacute\;sz<br />
 <span style=\\"font-size\: x-small\;\\">[E-MAFOSZ ES-MAFOSZ]</span></p>
 <p style=\\"text-align\: justify\;\\">megh&iacute\;vja &Ouml\;n&ouml\;ket 2012. <strong>m&aacute\;rcius 7</strong>-&eacute\;n <strong>16.00</strong> &oacute\;r&aacute\;ra a k&ouml\;nyvt&aacute\;r <em><strong>Műv&eacute\;szeti Szalon</strong></em>j&aacute\;ba</p>
 <p style=\\"text-align\: center\;\\"><span style=\\"font-size\: medium\;\\"><strong>&quot\;70kedek&quot\;</strong></span></p>
 <p style=\\"text-align\: center\;\\">c&iacute\;mű jubileumi fot&oacute\;ki&aacute\;ll&iacute\;t&aacute\;s&aacute\;ra</p>
 <p style=\\"text-align\: justify\;\\">ahol bemutat&aacute\;sra ker&uuml\;lnek az elm&uacute\;lt 20 &eacute\;v d&iacute\;jnyertes &eacute\;s zsűrizett fot&oacute\;i.</p>
 <p style=\\"text-align\: center\;\\">A ki&aacute\;ll&iacute\;t&aacute\;st <em><strong>Ba&aacute\;n Katalin</strong></em> fot&oacute\;műv&eacute\;sz\, a MAFOSZ aleln&ouml\;ke nyitja meg.</p>
 <p style=\\"text-align\: center\;\\">A t&aacute\;rlat m&aacute\;rcius 31-ig tekinthető meg.</p>
 
END:VEVENT
END:VCALENDAR
